Workbook

Sheet Thang 1
A1: ĐẢNG CỘNG SẢN VIỆT NAM | E1: Mẫu báo cáo B01/ĐP
A2: Đơn vị báo cáo: Chi bộ 3 | E2: Ban hành kèm theo Công văn số 141-CV/VPTW/nb
A3: Đơn vị nhận báo cáo: Đảng bộ trường CĐKT Lý Tự Trọng | E3: Ngày 17-3-2011 của Văn phòng Trung ương Đảng
A4: BÁO CÁO THU, NỘP ĐẢNG PHÍ
A5: Tháng 01 năm 2018
A7: TT | B7: Chỉ tiêu | C7: Đơn vị tính | D7: Mã số | E7: Đảng bộ xã, phường, thị trấn | F7: Đảng bộ doanh nghiệp | G7: Đảng bộ khác | H7: Cộng | I7: Ghi chú
A8: A | B8: B | C8: C | D8: D | E8: 1 | F8: 2 | G8: 3 | H8: 4=1+2+3 | I8: E
A9: I | B9: Tổng số Đảng viên đến cuối kỳ báo cáo | C9: Người | D9: 01 | G9: 15
A10: II | B10: Đảng phí thu được từ chi bộ của cấp báo cáo | C10: Đồng
A11: 1 | B11: Kỳ báo cáo | C11: Đồng | D11: 02 | G11: 1048303 | H11: =G11 -> 1048303
A12: 2 | B12: Từ đầu năm đến cuối kỳ báo cáo | C12: Đồng | D12: 03 | G12: 781106.27 | H12: =G12 -> 781106.27
A13: III | B13: Đảng phí trích giữ lại ở các cấp | C13: Đồng
A14: 1 | B14: Kỳ báo cáo (05+06+07) | C14: Đồng | D14: 04
A15: 1.1 | B15: Chi bộ, đảng bộ bộ phận | C15: Đồng | D15: 5 | G15: =G11*30% -> 314490.9 | H15: =G15 -> 314490.9
A16: 1.2 | B16: Tổ chức cơ sở Đảng | C16: Đồng | D16: 6
A17: 1.3 | B17: Các cấp trên cơ sở | C17: Đồng | D17: 7 | G17: =G11*70% -> 733812.1 | H17: =G17 -> 733812.1
A18: 2 | B18: Từ đầu năm đến cuối kỳ báo cáo | C18: Đồng | D18: 8
A19: 2.1 | B19: Chi bộ, đảng bộ bộ phận | C19: Đồng | D19: 9 | G19: =G12*30% -> 234331.88 | H19: =G19 -> 234331.88
A20: 2.2 | B20: Tổ chức cơ sở Đảng | C20: Đồng | D20: 10
A21: 2.3 | B21: Các cấp trên cơ sở | C21: Đồng | D21: 11 | G21: =G12*70% -> 546774.39 | H21: =G21 -> 546774.39
A22: IV | B22: Đảng phí nộp cấp trên của cấp báo cáo | C22: Đồng
A23: 1 | B23: Số phải nộp kỳ báo cáo (02-04) | C23: Đồng | D23: 12 | G23: =G17 -> 733812.1 | H23: =G23 -> 733812.1
A24: 2 | B24: Từ đầu năm đến cuối kỳ báo cáo (03-08) | C24: Đồng | D24: 13 | G24: =G21 -> 546774.39 | H24: =G24 -> 546774.39
A25: 3 | B25: Số còn nợ chưa nộp cấp trên đến cuối kỳ báo cáo | C25: Đồng | D25: 14 | G25: 0 | H25: =G25 -> 0
G27: Ngày tháng năm 2018
B28: Người lập | G28: T/M Cấp ủy

Sheet Thang 2
A1: ĐẢNG CỘNG SẢN VIỆT NAM | E1: Mẫu báo cáo B01/ĐP
A2: Đơn vị báo cáo: Chi bộ 3 | E2: Ban hành kèm theo Công văn số 141-CV/VPTW/nb
A3: Đơn vị nhận báo cáo: Đảng bộ trường CĐ Lý Tự Trọng | E3: Ngày 17-3-2011 của Văn phòng Trung ương Đảng
A4: BÁO CÁO THU, NỘP ĐẢNG PHÍ
A5: Tháng 02 năm 2018
A7: TT | B7: Chỉ tiêu | C7: Đơn vị tính | D7: Mã số | E7: Đảng bộ xã, phường, thị trấn | F7: Đảng bộ doanh nghiệp | G7: Đảng bộ khác | H7: Cộng | I7: Ghi chú
A8: A | B8: B | C8: C | D8: D | E8: 1 | F8: 2 | G8: 3 | H8: 4=1+2+3 | I8: E
A9: I | B9: Tổng số Đảng viên đến cuối kỳ báo cáo | C9: Người | D9: 01 | G9: 15
A10: II | B10: Đảng phí thu được từ chi bộ của cấp báo cáo | C10: Đồng
A11: 1 | B11: Kỳ báo cáo | C11: Đồng | D11: 02 | G11: 1048303 | H11: =G11 -> 1048303
A12: 2 | B12: Từ đầu năm đến cuối kỳ báo cáo | C12: Đồng | D12: 03 | G12: =G11+'Thang 1'!G12 -> 1829409.3 | H12: =G12 -> 1829409.3
A13: III | B13: Đảng phí trích giữ lại ở các cấp | C13: Đồng
A14: 1 | B14: Kỳ báo cáo (05+06+07) | C14: Đồng | D14: 04
A15: 1.1 | B15: Chi bộ, đảng bộ bộ phận | C15: Đồng | D15: 5 | G15: =G11*30% -> 314490.9 | H15: =G15 -> 314490.9
A16: 1.2 | B16: Tổ chức cơ sở Đảng | C16: Đồng | D16: 6
A17: 1.3 | B17: Các cấp trên cơ sở | C17: Đồng | D17: 7 | G17: =G11*70% -> 733812.1 | H17: =G17 -> 733812.1
A18: 2 | B18: Từ đầu năm đến cuối kỳ báo cáo | C18: Đồng | D18: 8
A19: 2.1 | B19: Chi bộ, đảng bộ bộ phận | C19: Đồng | D19: 9 | G19: =G12*30% -> 548822.78 | H19: =G19 -> 548822.78
A20: 2.2 | B20: Tổ chức cơ sở Đảng | C20: Đồng | D20: 10
A21: 2.3 | B21: Các cấp trên cơ sở | C21: Đồng | D21: 11 | G21: =G12*70% -> 1280586.5 | H21: =G21 -> 1280586.5
A22: IV | B22: Đảng phí nộp cấp trên của cấp báo cáo | C22: Đồng
A23: 1 | B23: Số phải nộp kỳ báo cáo (02-04) | C23: Đồng | D23: 12 | G23: =G17 -> 733812.1 | H23: =G23 -> 733812.1
A24: 2 | B24: Từ đầu năm đến cuối kỳ báo cáo (03-08) | C24: Đồng | D24: 13 | G24: =G21 -> 1280586.5 | H24: =G24 -> 1280586.5
A25: 3 | B25: Số còn nợ chưa nộp cấp trên đến cuối kỳ báo cáo | C25: Đồng | D25: 14 | G25: 0 | H25: =G25 -> 0
G27: Ngày tháng năm
B28: Người lập | G28: T/M Cấp ủy

Sheet Thang 3
A1: ĐẢNG CỘNG SẢN VIỆT NAM | E1: Mẫu báo cáo B01/ĐP
A2: Đơn vị báo cáo: Chi bộ 3 | E2: Ban hành kèm theo Công văn số 141-CV/VPTW/nb
A3: Đơn vị nhận báo cáo: Đảng bộ trường CĐ Lý Tự Trọng | E3: Ngày 17-3-2011 của Văn phòng Trung ương Đảng
A4: BÁO CÁO THU, NỘP ĐẢNG PHÍ
A5: Tháng 03 năm 2018
A7: TT | B7: Chỉ tiêu | C7: Đơn vị tính | D7: Mã số | E7: Đảng bộ xã, phường, thị trấn | F7: Đảng bộ doanh nghiệp | G7: Đảng bộ khác | H7: Cộng | I7: Ghi chú
A8: A | B8: B | C8: C | D8: D | E8: 1 | F8: 2 | G8: 3 | H8: 4=1+2+3 | I8: E
A9: I | B9: Tổng số Đảng viên đến cuối kỳ báo cáo | C9: Người | D9: 01 | G9: 15
A10: II | B10: Đảng phí thu được từ chi bộ của cấp báo cáo | C10: Đồng
A11: 1 | B11: Kỳ báo cáo | C11: Đồng | D11: 02 | G11: 1048303 | H11: =G11 -> 1048303
A12: 2 | B12: Từ đầu năm đến cuối kỳ báo cáo | C12: Đồng | D12: 03 | G12: =G11+'Thang 2'!G12 -> 2877712.3 | H12: =G12 -> 2877712.3
A13: III | B13: Đảng phí trích giữ lại ở các cấp | C13: Đồng
A14: 1 | B14: Kỳ báo cáo (05+06+07) | C14: Đồng | D14: 04
A15: 1.1 | B15: Chi bộ, đảng bộ bộ phận | C15: Đồng | D15: 5 | G15: =G11*30% -> 314490.9 | H15: =G15 -> 314490.9
A16: 1.2 | B16: Tổ chức cơ sở Đảng | C16: Đồng | D16: 6
A17: 1.3 | B17: Các cấp trên cơ sở | C17: Đồng | D17: 7 | G17: =G11*70% -> 733812.1 | H17: =G17 -> 733812.1
A18: 2 | B18: Từ đầu năm đến cuối kỳ báo cáo | C18: Đồng | D18: 8
A19: 2.1 | B19: Chi bộ, đảng bộ bộ phận | C19: Đồng | D19: 9 | G19: =G12*30% -> 863313.68 | H19: =G19 -> 863313.68
A20: 2.2 | B20: Tổ chức cơ sở Đảng | C20: Đồng | D20: 10
A21: 2.3 | B21: Các cấp trên cơ sở | C21: Đồng | D21: 11 | G21: =G12*70% -> 2014398.6 | H21: =G21 -> 2014398.6
A22: IV | B22: Đảng phí nộp cấp trên của cấp báo cáo | C22: Đồng
A23: 1 | B23: Số phải nộp kỳ báo cáo (02-04) | C23: Đồng | D23: 12 | G23: =G17 -> 733812.1 | H23: =G23 -> 733812.1
A24: 2 | B24: Từ đầu năm đến cuối kỳ báo cáo (03-08) | C24: Đồng | D24: 13 | G24: =G21 -> 2014398.6 | H24: =G24 -> 2014398.6
A25: 3 | B25: Số còn nợ chưa nộp cấp trên đến cuối kỳ báo cáo | C25: Đồng | D25: 14 | G25: 0 | H25: =G25 -> 0
G27: Ngày tháng năm
B28: Người lập | G28: T/M Cấp ủy

Sheet Quy 1
A1: ĐẢNG CỘNG SẢN VIỆT NAM | E1: Mẫu báo cáo B01/ĐP
A2: Đơn vị báo cáo: Chi bộ 3 | E2: Ban hành kèm theo Công văn số 141-CV/VPTW/nb
A3: Đơn vị nhận báo cáo: Đảng bộ trường CĐ Lý Tự Trọng | E3: Ngày 17-3-2011 của Văn phòng Trung ương Đảng
A4: BÁO CÁO THU, NỘP ĐẢNG PHÍ
A5: Quý 1 năm 2018
A7: TT | B7: Chỉ tiêu | C7: Đơn vị tính | D7: Mã số | E7: Đảng bộ xã, phường, thị trấn | F7: Đảng bộ doanh nghiệp | G7: Đảng bộ khác | H7: Cộng | I7: Ghi chú
A8: A | B8: B | C8: C | D8: D | E8: 1 | F8: 2 | G8: 3 | H8: 4=1+2+3 | I8: E
A9: I | B9: Tổng số Đảng viên đến cuối kỳ báo cáo | C9: Người | D9: 01 | G9: 15
A10: II | B10: Đảng phí thu được từ chi bộ của cấp báo cáo | C10: Đồng
A11: 1 | B11: Kỳ báo cáo | C11: Đồng | D11: 02 | G11: ='Thang 1'!G11+'Thang 2'!G11+'Thang 3'!G11 -> 3144909 | H11: =G11 -> 3144909
A12: 2 | B12: Từ đầu năm đến cuối kỳ báo cáo | C12: Đồng | D12: 03 | G12: 2760787.5 | H12: =G12 -> 2760787.5
A13: III | B13: Đảng phí trích giữ lại ở các cấp | C13: Đồng
A14: 1 | B14: Kỳ báo cáo (05+06+07) | C14: Đồng | D14: 04
A15: 1.1 | B15: Chi bộ, đảng bộ bộ phận | C15: Đồng | D15: 5 | G15: =G11*30% -> 943472.7 | H15: =G15 -> 943472.7
A16: 1.2 | B16: Tổ chức cơ sở Đảng | C16: Đồng | D16: 6
A17: 1.3 | B17: Các cấp trên cơ sở | C17: Đồng | D17: 7 | G17: =G11*70% -> 2201436.3 | H17: =G17 -> 2201436.3
A18: 2 | B18: Từ đầu năm đến cuối kỳ báo cáo | C18: Đồng | D18: 8
A19: 2.1 | B19: Chi bộ, đảng bộ bộ phận | C19: Đồng | D19: 9 | G19: =G12*30% -> 828236.26 | H19: =G19 -> 828236.26
A20: 2.2 | B20: Tổ chức cơ sở Đảng | C20: Đồng | D20: 10
A21: 2.3 | B21: Các cấp trên cơ sở | C21: Đồng | D21: 11 | G21: =G12*70% -> 1932551.3 | H21: =G21 -> 1932551.3
A22: IV | B22: Đảng phí nộp cấp trên của cấp báo cáo | C22: Đồng
A23: 1 | B23: Số phải nộp kỳ báo cáo (02-04) | C23: Đồng | D23: 12 | G23: =G17 -> 2201436.3 | H23: =G23 -> 2201436.3
A24: 2 | B24: Từ đầu năm đến cuối kỳ báo cáo (03-08) | C24: Đồng | D24: 13 | G24: =G21 -> 1932551.3 | H24: =G24 -> 1932551.3
A25: 3 | B25: Số còn nợ chưa nộp cấp trên đến cuối kỳ báo cáo | C25: Đồng | D25: 14 | G25: 0 | H25: =G25 -> 0
G27: Ngày tháng năm
B28: Người lập | G28: T/M Cấp ủy

Sheet Thang 4
A1: ĐẢNG CỘNG SẢN VIỆT NAM | E1: Mẫu báo cáo B01/ĐP
A2: Đơn vị báo cáo: Chi bộ 3 | E2: Ban hành kèm theo Công văn số 141-CV/VPTW/nb
A3: Đơn vị nhận báo cáo: Đảng bộ trường CĐ Lý Tự Trọng | E3: Ngày 17-3-2011 của Văn phòng Trung ương Đảng
A4: BÁO CÁO THU, NỘP ĐẢNG PHÍ
A5: Tháng 04 năm 2018
A7: TT | B7: Chỉ tiêu | C7: Đơn vị tính | D7: Mã số | E7: Đảng bộ xã, phường, thị trấn | F7: Đảng bộ doanh nghiệp | G7: Đảng bộ khác | H7: Cộng | I7: Ghi chú
A8: A | B8: B | C8: C | D8: D | E8: 1 | F8: 2 | G8: 3 | H8: 4=1+2+3 | I8: E
A9: I | B9: Tổng số Đảng viên đến cuối kỳ báo cáo | C9: Người | D9: 01 | G9: 15
A10: II | B10: Đảng phí thu được từ chi bộ của cấp báo cáo | C10: Đồng
A11: 1 | B11: Kỳ báo cáo | C11: Đồng | D11: 02 | G11: 1048303 | H11: =G11 -> 1048303
A12: 2 | B12: Từ đầu năm đến cuối kỳ báo cáo | C12: Đồng | D12: 03 | G12: =G11+'Thang 3'!G12 -> 3926015.3 | H12: =G12 -> 3926015.3
A13: III | B13: Đảng phí trích giữ lại ở các cấp | C13: Đồng
A14: 1 | B14: Kỳ báo cáo (05+06+07) | C14: Đồng | D14: 04
A15: 1.1 | B15: Chi bộ, đảng bộ bộ phận | C15: Đồng | D15: 5 | G15: =G11*30% -> 314490.9 | H15: =G15 -> 314490.9
A16: 1.2 | B16: Tổ chức cơ sở Đảng | C16: Đồng | D16: 6
A17: 1.3 | B17: Các cấp trên cơ sở | C17: Đồng | D17: 7 | G17: =G11*70% -> 733812.1 | H17: =G17 -> 733812.1
A18: 2 | B18: Từ đầu năm đến cuối kỳ báo cáo | C18: Đồng | D18: 8
A19: 2.1 | B19: Chi bộ, đảng bộ bộ phận | C19: Đồng | D19: 9 | G19: =G12*30% -> 1177804.6 | H19: =G19 -> 1177804.6
A20: 2.2 | B20: Tổ chức cơ sở Đảng | C20: Đồng | D20: 10
A21: 2.3 | B21: Các cấp trên cơ sở | C21: Đồng | D21: 11 | G21: =G12*70% -> 2748210.7 | H21: =G21 -> 2748210.7
A22: IV | B22: Đảng phí nộp cấp trên của cấp báo cáo | C22: Đồng
A23: 1 | B23: Số phải nộp kỳ báo cáo (02-04) | C23: Đồng | D23: 12 | G23: =G17 -> 733812.1 | H23: =G23 -> 733812.1
A24: 2 | B24: Từ đầu năm đến cuối kỳ báo cáo (03-08) | C24: Đồng | D24: 13 | G24: =G21 -> 2748210.7 | H24: =G24 -> 2748210.7
A25: 3 | B25: Số còn nợ chưa nộp cấp trên đến cuối kỳ báo cáo | C25: Đồng | D25: 14 | G25: 0 | H25: =G25 -> 0
G27: Ngày tháng năm
B28: Người lập | G28: T/M Cấp ủy

Sheet Thang 5
A1: ĐẢNG CỘNG SẢN VIỆT NAM | E1: Mẫu báo cáo B01/ĐP
A2: Đơn vị báo cáo: Chi bộ 3 | E2: Ban hành kèm theo Công văn số 141-CV/VPTW/nb
A3: Đơn vị nhận báo cáo: Đảng bộ trường CĐ Lý Tự Trọng | E3: Ngày 17-3-2011 của Văn phòng Trung ương Đảng
A4: BÁO CÁO THU, NỘP ĐẢNG PHÍ
A5: Tháng 05 năm 2018
A7: TT | B7: Chỉ tiêu | C7: Đơn vị tính | D7: Mã số | E7: Đảng bộ xã, phường, thị trấn | F7: Đảng bộ doanh nghiệp | G7: Đảng bộ khác | H7: Cộng | I7: Ghi chú
A8: A | B8: B | C8: C | D8: D | E8: 1 | F8: 2 | G8: 3 | H8: 4=1+2+3 | I8: E
A9: I | B9: Tổng số Đảng viên đến cuối kỳ báo cáo | C9: Người | D9: 01 | G9: 15
A10: II | B10: Đảng phí thu được từ chi bộ của cấp báo cáo | C10: Đồng
A11: 1 | B11: Kỳ báo cáo | C11: Đồng | D11: 02 | G11: 1048303 | H11: =G11 -> 1048303
A12: 2 | B12: Từ đầu năm đến cuối kỳ báo cáo | C12: Đồng | D12: 03 | G12: =G11+'Thang 4'!G12 -> 4974318.3 | H12: =G12 -> 4974318.3
A13: III | B13: Đảng phí trích giữ lại ở các cấp | C13: Đồng
A14: 1 | B14: Kỳ báo cáo (05+06+07) | C14: Đồng | D14: 04
A15: 1.1 | B15: Chi bộ, đảng bộ bộ phận | C15: Đồng | D15: 5 | G15: =G11*30% -> 314490.9 | H15: =G15 -> 314490.9
A16: 1.2 | B16: Tổ chức cơ sở Đảng | C16: Đồng | D16: 6
A17: 1.3 | B17: Các cấp trên cơ sở | C17: Đồng | D17: 7 | G17: =G11*70% -> 733812.1 | H17: =G17 -> 733812.1
A18: 2 | B18: Từ đầu năm đến cuối kỳ báo cáo | C18: Đồng | D18: 8
A19: 2.1 | B19: Chi bộ, đảng bộ bộ phận | C19: Đồng | D19: 9 | G19: =G12*30% -> 1492295.5 | H19: =G19 -> 1492295.5
A20: 2.2 | B20: Tổ chức cơ sở Đảng | C20: Đồng | D20: 10
A21: 2.3 | B21: Các cấp trên cơ sở | C21: Đồng | D21: 11 | G21: =G12*70% -> 3482022.8 | H21: =G21 -> 3482022.8
A22: IV | B22: Đảng phí nộp cấp trên của cấp báo cáo | C22: Đồng
A23: 1 | B23: Số phải nộp kỳ báo cáo (02-04) | C23: Đồng | D23: 12 | G23: =G17 -> 733812.1 | H23: =G23 -> 733812.1
A24: 2 | B24: Từ đầu năm đến cuối kỳ báo cáo (03-08) | C24: Đồng | D24: 13 | G24: =G21 -> 3482022.8 | H24: =G24 -> 3482022.8
A25: 3 | B25: Số còn nợ chưa nộp cấp trên đến cuối kỳ báo cáo | C25: Đồng | D25: 14 | G25: 0 | H25: =G25 -> 0
G27: Ngày tháng năm
B28: Người lập | G28: T/M Cấp ủy

Sheet Thang 6
A1: ĐẢNG CỘNG SẢN VIỆT NAM | E1: Mẫu báo cáo B01/ĐP
A2: Đơn vị báo cáo: Chi bộ 3 | E2: Ban hành kèm theo Công văn số 141-CV/VPTW/nb
A3: Đơn vị nhận báo cáo: Đảng bộ trường CĐ Lý Tự Trọng | E3: Ngày 17-3-2011 của Văn phòng Trung ương Đảng
A4: BÁO CÁO THU, NỘP ĐẢNG PHÍ
A5: Tháng 06 năm 2018
A7: TT | B7: Chỉ tiêu | C7: Đơn vị tính | D7: Mã số | E7: Đảng bộ xã, phường, thị trấn | F7: Đảng bộ doanh nghiệp | G7: Đảng bộ khác | H7: Cộng | I7: Ghi chú
A8: A | B8: B | C8: C | D8: D | E8: 1 | F8: 2 | G8: 3 | H8: 4=1+2+3 | I8: E
A9: I | B9: Tổng số Đảng viên đến cuối kỳ báo cáo | C9: Người | D9: 01 | G9: 15
A10: II | B10: Đảng phí thu được từ chi bộ của cấp báo cáo | C10: Đồng
A11: 1 | B11: Kỳ báo cáo | C11: Đồng | D11: 02 | G11: 1048303 | H11: =G11 -> 1048303
A12: 2 | B12: Từ đầu năm đến cuối kỳ báo cáo | C12: Đồng | D12: 03 | G12: =G11+'Thang 5'!G12 -> 6022621.3 | H12: =G12 -> 6022621.3
A13: III | B13: Đảng phí trích giữ lại ở các cấp | C13: Đồng
A14: 1 | B14: Kỳ báo cáo (05+06+07) | C14: Đồng | D14: 04
A15: 1.1 | B15: Chi bộ, đảng bộ bộ phận | C15: Đồng | D15: 5 | G15: =G11*30% -> 314490.9 | H15: =G15 -> 314490.9
A16: 1.2 | B16: Tổ chức cơ sở Đảng | C16: Đồng | D16: 6
A17: 1.3 | B17: Các cấp trên cơ sở | C17: Đồng | D17: 7 | G17: =G11*70% -> 733812.1 | H17: =G17 -> 733812.1
A18: 2 | B18: Từ đầu năm đến cuối kỳ báo cáo | C18: Đồng | D18: 8
A19: 2.1 | B19: Chi bộ, đảng bộ bộ phận | C19: Đồng | D19: 9 | G19: =G12*30% -> 1806786.4 | H19: =G19 -> 1806786.4
A20: 2.2 | B20: Tổ chức cơ sở Đảng | C20: Đồng | D20: 10
A21: 2.3 | B21: Các cấp trên cơ sở | C21: Đồng | D21: 11 | G21: =G12*70% -> 4215834.9 | H21: =G21 -> 4215834.9
A22: IV | B22: Đảng phí nộp cấp trên của cấp báo cáo | C22: Đồng
A23: 1 | B23: Số phải nộp kỳ báo cáo (02-04) | C23: Đồng | D23: 12 | G23: =G17 -> 733812.1 | H23: =G23 -> 733812.1
A24: 2 | B24: Từ đầu năm đến cuối kỳ báo cáo (03-08) | C24: Đồng | D24: 13 | G24: =G21 -> 4215834.9 | H24: =G24 -> 4215834.9
A25: 3 | B25: Số còn nợ chưa nộp cấp trên đến cuối kỳ báo cáo | C25: Đồng | D25: 14 | G25: 0 | H25: =G25 -> 0
G27: Ngày tháng năm
B28: Người lập | G28: T/M Cấp ủy

Sheet Quy 2
A1: ĐẢNG CỘNG SẢN VIỆT NAM | E1: Mẫu báo cáo B01/ĐP
A2: Đơn vị báo cáo: Chi bộ 3 | E2: Ban hành kèm theo Công văn số 141-CV/VPTW/nb
A3: Đơn vị nhận báo cáo: Đảng bộ trường CĐ Lý Tự Trọng | E3: Ngày 17-3-2011 của Văn phòng Trung ương Đảng
A4: BÁO CÁO THU, NỘP ĐẢNG PHÍ
A5: Quý 2 năm 2018
A7: TT | B7: Chỉ tiêu | C7: Đơn vị tính | D7: Mã số | E7: Đảng bộ xã, phường, thị trấn | F7: Đảng bộ doanh nghiệp | G7: Đảng bộ khác | H7: Cộng | I7: Ghi chú
A8: A | B8: B | C8: C | D8: D | E8: 1 | F8: 2 | G8: 3 | H8: 4=1+2+3 | I8: E
A9: I | B9: Tổng số Đảng viên đến cuối kỳ báo cáo | C9: Người | D9: 01 | G9: 15
A10: II | B10: Đảng phí thu được từ chi bộ của cấp báo cáo | C10: Đồng | M10: 2760787.5
A11: 1 | B11: Kỳ báo cáo | C11: Đồng | D11: 02 | G11: ='Thang 4'!G11+'Thang 5'!G11+'Thang 6'!G11 -> 3144909 | H11: =G11 -> 3144909 | M11: 2669992.7
A12: 2 | B12: Từ đầu năm đến cuối kỳ báo cáo | C12: Đồng | D12: 03 | G12: =G11+'Quy 1'!G12 -> 5905696.5 | H12: =G12 -> 5905696.5 | M12: =M10+M11 -> 5430780.3
A13: III | B13: Đảng phí trích giữ lại ở các cấp | C13: Đồng
A14: 1 | B14: Kỳ báo cáo (05+06+07) | C14: Đồng | D14: 04
A15: 1.1 | B15: Chi bộ, đảng bộ bộ phận | C15: Đồng | D15: 5 | G15: =G11*30% -> 943472.7 | H15: =G15 -> 943472.7
A16: 1.2 | B16: Tổ chức cơ sở Đảng | C16: Đồng | D16: 6
A17: 1.3 | B17: Các cấp trên cơ sở | C17: Đồng | D17: 7 | G17: =G11*70% -> 2201436.3 | H17: =G17 -> 2201436.3
A18: 2 | B18: Từ đầu năm đến cuối kỳ báo cáo | C18: Đồng | D18: 8
A19: 2.1 | B19: Chi bộ, đảng bộ bộ phận | C19: Đồng | D19: 9 | G19: =G12*30% -> 1771709 | H19: =G19 -> 1771709
A20: 2.2 | B20: Tổ chức cơ sở Đảng | C20: Đồng | D20: 10
A21: 2.3 | B21: Các cấp trên cơ sở | C21: Đồng | D21: 11 | G21: =G12*70% -> 4133987.6 | H21: =G21 -> 4133987.6
A22: IV | B22: Đảng phí nộp cấp trên của cấp báo cáo | C22: Đồng
A23: 1 | B23: Số phải nộp kỳ báo cáo (02-04) | C23: Đồng | D23: 12 | G23: =G17 -> 2201436.3 | H23: =G23 -> 2201436.3
A24: 2 | B24: Từ đầu năm đến cuối kỳ báo cáo (03-08) | C24: Đồng | D24: 13 | G24: =G21 -> 4133987.6 | H24: =G24 -> 4133987.6
A25: 3 | B25: Số còn nợ chưa nộp cấp trên đến cuối kỳ báo cáo | C25: Đồng | D25: 14 | G25: 0 | H25: =G25 -> 0
G27: Ngày tháng năm
B28: Người lập | G28: T/M Cấp ủy

Sheet Thang 7
A1: ĐẢNG CỘNG SẢN VIỆT NAM | E1: Mẫu báo cáo B01/ĐP
A2: Đơn vị báo cáo: Chi bộ 3 | E2: Ban hành kèm theo Công văn số 141-CV/VPTW/nb
A3: Đơn vị nhận báo cáo: Đảng bộ trường CĐKT Lý Tự Trọng | E3: Ngày 17-3-2011 của Văn phòng Trung ương Đảng
A4: BÁO CÁO THU, NỘP ĐẢNG PHÍ
A5: Tháng 07 năm 2017
A7: TT | B7: Chỉ tiêu | C7: Đơn vị tính | D7: Mã số | E7: Đảng bộ xã, phường, thị trấn | F7: Đảng bộ doanh nghiệp | G7: Đảng bộ khác | H7: Cộng | I7: Ghi chú
A8: A | B8: B | C8: C | D8: D | E8: 1 | F8: 2 | G8: 3 | H8: 4=1+2+3 | I8: E
A9: I | B9: Tổng số Đảng viên đến cuối kỳ báo cáo | C9: Người | D9: 01 | G9: 17
A10: II | B10: Đảng phí thu được từ chi bộ của cấp báo cáo | C10: Đồng
A11: 1 | B11: Kỳ báo cáo | C11: Đồng | D11: 02 | G11: 1016675.3 | H11: =G11 -> 1016675.3
A12: 2 | B12: Từ đầu năm đến cuối kỳ báo cáo | C12: Đồng | D12: 03 | G12: =G11+'Thang 5'!G12 -> 5990993.5 | H12: =G12 -> 5990993.5
A13: III | B13: Đảng phí trích giữ lại ở các cấp | C13: Đồng
A14: 1 | B14: Kỳ báo cáo (05+06+07) | C14: Đồng | D14: 04
A15: 1.1 | B15: Chi bộ, đảng bộ bộ phận | C15: Đồng | D15: 5 | G15: =G11*30% -> 305002.58 | H15: =G15 -> 305002.58
A16: 1.2 | B16: Tổ chức cơ sở Đảng | C16: Đồng | D16: 6
A17: 1.3 | B17: Các cấp trên cơ sở | C17: Đồng | D17: 7 | G17: =G11*70% -> 711672.68 | H17: =G17 -> 711672.68
A18: 2 | B18: Từ đầu năm đến cuối kỳ báo cáo | C18: Đồng | D18: 8
A19: 2.1 | B19: Chi bộ, đảng bộ bộ phận | C19: Đồng | D19: 9 | G19: =G12*30% -> 1797298.1 | H19: =G19 -> 1797298.1
A20: 2.2 | B20: Tổ chức cơ sở Đảng | C20: Đồng | D20: 10
A21: 2.3 | B21: Các cấp trên cơ sở | C21: Đồng | D21: 11 | G21: =G12*70% -> 4193695.5 | H21: =G21 -> 4193695.5
A22: IV | B22: Đảng phí nộp cấp trên của cấp báo cáo | C22: Đồng
A23: 1 | B23: Số phải nộp kỳ báo cáo (02-04) | C23: Đồng | D23: 12 | G23: =G17 -> 711672.68 | H23: =G23 -> 711672.68
A24: 2 | B24: Từ đầu năm đến cuối kỳ báo cáo (03-08) | C24: Đồng | D24: 13 | G24: =G21 -> 4193695.5 | H24: =G24 -> 4193695.5
A25: 3 | B25: Số còn nợ chưa nộp cấp trên đến cuối kỳ báo cáo | C25: Đồng | D25: 14 | G25: 0 | H25: =G25 -> 0
G27: Ngày tháng 7 năm 2017
B28: Người lập | G28: T/M Cấp ủy
B31: Đỗ Thị Phương Khanh | G31: Võ Đắc Thịnh

Sheet Thang 8
A1: ĐẢNG CỘNG SẢN VIỆT NAM | E1: Mẫu báo cáo B01/ĐP
A2: Đơn vị báo cáo: Chi bộ 3 | E2: Ban hành kèm theo Công văn số 141-CV/VPTW/nb
A3: Đơn vị nhận báo cáo: Đảng bộ trường CĐKT Lý Tự Trọng | E3: Ngày 17-3-2011 của Văn phòng Trung ương Đảng
A4: BÁO CÁO THU, NỘP ĐẢNG PHÍ
A5: Tháng 08 năm 2017
A7: TT | B7: Chỉ tiêu | C7: Đơn vị tính | D7: Mã số | E7: Đảng bộ xã, phường, thị trấn | F7: Đảng bộ doanh nghiệp | G7: Đảng bộ khác | H7: Cộng | I7: Ghi chú
A8: A | B8: B | C8: C | D8: D | E8: 1 | F8: 2 | G8: 3 | H8: 4=1+2+3 | I8: E
A9: I | B9: Tổng số Đảng viên đến cuối kỳ báo cáo | C9: Người | D9: 01 | G9: 18
A10: II | B10: Đảng phí thu được từ chi bộ của cấp báo cáo | C10: Đồng
A11: 1 | B11: Kỳ báo cáo | C11: Đồng | D11: 02 | G11: 1075844.3 | H11: =G11 -> 1075844.3
A12: 2 | B12: Từ đầu năm đến cuối kỳ báo cáo | C12: Đồng | D12: 03 | G12: =G11+'Thang 7'!G12 -> 7066837.8 | H12: =G12 -> 7066837.8
A13: III | B13: Đảng phí trích giữ lại ở các cấp | C13: Đồng
A14: 1 | B14: Kỳ báo cáo (05+06+07) | C14: Đồng | D14: 04
A15: 1.1 | B15: Chi bộ, đảng bộ bộ phận | C15: Đồng | D15: 5 | G15: =G11*30% -> 322753.28 | H15: =G15 -> 322753.28
A16: 1.2 | B16: Tổ chức cơ sở Đảng | C16: Đồng | D16: 6
A17: 1.3 | B17: Các cấp trên cơ sở | C17: Đồng | D17: 7 | G17: =G11*70% -> 753090.98 | H17: =G17 -> 753090.98
A18: 2 | B18: Từ đầu năm đến cuối kỳ báo cáo | C18: Đồng | D18: 8
A19: 2.1 | B19: Chi bộ, đảng bộ bộ phận | C19: Đồng | D19: 9 | G19: =G12*30% -> 2120051.3 | H19: =G19 -> 2120051.3
A20: 2.2 | B20: Tổ chức cơ sở Đảng | C20: Đồng | D20: 10
A21: 2.3 | B21: Các cấp trên cơ sở | C21: Đồng | D21: 11 | G21: =G12*70% -> 4946786.5 | H21: =G21 -> 4946786.5
A22: IV | B22: Đảng phí nộp cấp trên của cấp báo cáo | C22: Đồng
A23: 1 | B23: Số phải nộp kỳ báo cáo (02-04) | C23: Đồng | D23: 12 | G23: =G17 -> 753090.98 | H23: =G23 -> 753090.98
A24: 2 | B24: Từ đầu năm đến cuối kỳ báo cáo (03-08) | C24: Đồng | D24: 13 | G24: =G21 -> 4946786.5 | H24: =G24 -> 4946786.5
A25: 3 | B25: Số còn nợ chưa nộp cấp trên đến cuối kỳ báo cáo | C25: Đồng | D25: 14 | G25: 0 | H25: =G25 -> 0
G27: Ngày tháng năm 2017
B28: Người lập | G28: T/M Cấp ủy
B31: Đỗ Thị Phương Khanh | G31: Võ Đắc Thịnh

Sheet Thang 9
A1: ĐẢNG CỘNG SẢN VIỆT NAM | E1: Mẫu báo cáo B01/ĐP
A2: Đơn vị báo cáo: Chi bộ 3 | E2: Ban hành kèm theo Công văn số 141-CV/VPTW/nb
A3: Đơn vị nhận báo cáo: Đảng bộ trường CĐKT Lý Tự Trọng | E3: Ngày 17-3-2011 của Văn phòng Trung ương Đảng
A4: BÁO CÁO THU, NỘP ĐẢNG PHÍ
A5: Tháng 09 năm 2017
A7: TT | B7: Chỉ tiêu | C7: Đơn vị tính | D7: Mã số | E7: Đảng bộ xã, phường, thị trấn | F7: Đảng bộ doanh nghiệp | G7: Đảng bộ khác | H7: Cộng | I7: Ghi chú
A8: A | B8: B | C8: C | D8: D | E8: 1 | F8: 2 | G8: 3 | H8: 4=1+2+3 | I8: E
A9: I | B9: Tổng số Đảng viên đến cuối kỳ báo cáo | C9: Người | D9: 01 | G9: 18
A10: II | B10: Đảng phí thu được từ chi bộ của cấp báo cáo | C10: Đồng
A11: 1 | B11: Kỳ báo cáo | C11: Đồng | D11: 02 | G11: 1075844.3 | H11: =G11 -> 1075844.3
A12: 2 | B12: Từ đầu năm đến cuối kỳ báo cáo | C12: Đồng | D12: 03 | G12: =G11+'Thang 8'!G12 -> 8142682.1 | H12: =G12 -> 8142682.1
A13: III | B13: Đảng phí trích giữ lại ở các cấp | C13: Đồng
A14: 1 | B14: Kỳ báo cáo (05+06+07) | C14: Đồng | D14: 04
A15: 1.1 | B15: Chi bộ, đảng bộ bộ phận | C15: Đồng | D15: 5 | G15: =G11*30% -> 322753.28 | H15: =G15 -> 322753.28
A16: 1.2 | B16: Tổ chức cơ sở Đảng | C16: Đồng | D16: 6
A17: 1.3 | B17: Các cấp trên cơ sở | C17: Đồng | D17: 7 | G17: =G11*70% -> 753090.98 | H17: =G17 -> 753090.98
A18: 2 | B18: Từ đầu năm đến cuối kỳ báo cáo | C18: Đồng | D18: 8
A19: 2.1 | B19: Chi bộ, đảng bộ bộ phận | C19: Đồng | D19: 9 | G19: =G12*30% -> 2442804.6 | H19: =G19 -> 2442804.6
A20: 2.2 | B20: Tổ chức cơ sở Đảng | C20: Đồng | D20: 10
A21: 2.3 | B21: Các cấp trên cơ sở | C21: Đồng | D21: 11 | G21: =G12*70% -> 5699877.4 | H21: =G21 -> 5699877.4
A22: IV | B22: Đảng phí nộp cấp trên của cấp báo cáo | C22: Đồng
A23: 1 | B23: Số phải nộp kỳ báo cáo (02-04) | C23: Đồng | D23: 12 | G23: =G17 -> 753090.98 | H23: =G23 -> 753090.98
A24: 2 | B24: Từ đầu năm đến cuối kỳ báo cáo (03-08) | C24: Đồng | D24: 13 | G24: =G21 -> 5699877.4 | H24: =G24 -> 5699877.4
A25: 3 | B25: Số còn nợ chưa nộp cấp trên đến cuối kỳ báo cáo | C25: Đồng | D25: 14 | G25: 0 | H25: =G25 -> 0
G27: Ngày tháng năm 2017
B28: Người lập | G28: T/M Cấp ủy
B31: Đỗ Thị Phương Khanh | G31: Võ Đắc Thịnh

Sheet Quy 3
A1: ĐẢNG CỘNG SẢN VIỆT NAM | E1: Mẫu báo cáo B01/ĐP
A2: Đơn vị báo cáo: Chi bộ 3 | E2: Ban hành kèm theo Công văn số 141-CV/VPTW/nb
A3: Đơn vị nhận báo cáo: Đảng bộ trường CĐKT Lý Tự Trọng | E3: Ngày 17-3-2011 của Văn phòng Trung ương Đảng
A4: BÁO CÁO THU, NỘP ĐẢNG PHÍ
A5: Quý 3 năm 2017
A7: TT | B7: Chỉ tiêu | C7: Đơn vị tính | D7: Mã số | E7: Đảng bộ xã, phường, thị trấn | F7: Đảng bộ doanh nghiệp | G7: Đảng bộ khác | H7: Cộng | I7: Ghi chú
A8: A | B8: B | C8: C | D8: D | E8: 1 | F8: 2 | G8: 3 | H8: 4=1+2+3 | I8: E
A9: I | B9: Tổng số Đảng viên đến cuối kỳ báo cáo | C9: Người | D9: 01 | G9: 18
A10: II | B10: Đảng phí thu được từ chi bộ của cấp báo cáo | C10: Đồng | M10: 2760787.5
A11: 1 | B11: Kỳ báo cáo | C11: Đồng | D11: 02 | G11: ='Thang 7'!G11+'Thang 8'!G11+'Thang 9'!G11 -> 3168363.8 | H11: =G11 -> 3168363.8 | M11: 2669992.7
A12: 2 | B12: Từ đầu năm đến cuối kỳ báo cáo | C12: Đồng | D12: 03 | G12: =G11+'Quy 1'!G12 -> 5929151.3 | H12: =G12 -> 5929151.3 | M12: =M10+M11 -> 5430780.3
A13: III | B13: Đảng phí trích giữ lại ở các cấp | C13: Đồng
A14: 1 | B14: Kỳ báo cáo (05+06+07) | C14: Đồng | D14: 04
A15: 1.1 | B15: Chi bộ, đảng bộ bộ phận | C15: Đồng | D15: 5 | G15: =G11*30% -> 950509.14 | H15: =G15 -> 950509.14
A16: 1.2 | B16: Tổ chức cơ sở Đảng | C16: Đồng | D16: 6
A17: 1.3 | B17: Các cấp trên cơ sở | C17: Đồng | D17: 7 | G17: =G11*70% -> 2217854.7 | H17: =G17 -> 2217854.7
A18: 2 | B18: Từ đầu năm đến cuối kỳ báo cáo | C18: Đồng | D18: 8
A19: 2.1 | B19: Chi bộ, đảng bộ bộ phận | C19: Đồng | D19: 9 | G19: =G12*30% -> 1778745.4 | H19: =G19 -> 1778745.4
A20: 2.2 | B20: Tổ chức cơ sở Đảng | C20: Đồng | D20: 10
A21: 2.3 | B21: Các cấp trên cơ sở | C21: Đồng | D21: 11 | G21: =G12*70% -> 4150405.9 | H21: =G21 -> 4150405.9
A22: IV | B22: Đảng phí nộp cấp trên của cấp báo cáo | C22: Đồng
A23: 1 | B23: Số phải nộp kỳ báo cáo (02-04) | C23: Đồng | D23: 12 | G23: =G17 -> 2217854.7 | H23: =G23 -> 2217854.7
A24: 2 | B24: Từ đầu năm đến cuối kỳ báo cáo (03-08) | C24: Đồng | D24: 13 | G24: =G21 -> 4150405.9 | H24: =G24 -> 4150405.9
A25: 3 | B25: Số còn nợ chưa nộp cấp trên đến cuối kỳ báo cáo | C25: Đồng | D25: 14 | G25: 0 | H25: =G25 -> 0
G27: Ngày tháng năm 2017
B28: Người lập | G28: T/M Cấp ủy
B32: Đỗ Thị Phương Khanh | G32: Võ Đắc Thịnh

Sheet Thang 10
A1: ĐẢNG CỘNG SẢN VIỆT NAM | E1: Mẫu báo cáo B01/ĐP
A2: Đơn vị báo cáo: Chi bộ 3 | E2: Ban hành kèm theo Công văn số 141-CV/VPTW/nb
A3: Đơn vị nhận báo cáo: Đảng bộ trường CĐKT Lý Tự Trọng | E3: Ngày 17-3-2011 của Văn phòng Trung ương Đảng
A4: BÁO CÁO THU, NỘP ĐẢNG PHÍ
A5: Tháng 10 năm 2017
A7: TT | B7: Chỉ tiêu | C7: Đơn vị tính | D7: Mã số | E7: Đảng bộ xã, phường, thị trấn | F7: Đảng bộ doanh nghiệp | G7: Đảng bộ khác | H7: Cộng | I7: Ghi chú
A8: A | B8: B | C8: C | D8: D | E8: 1 | F8: 2 | G8: 3 | H8: 4=1+2+3 | I8: E
A9: I | B9: Tổng số Đảng viên đến cuối kỳ báo cáo | C9: Người | D9: 01 | G9: 18
A10: II | B10: Đảng phí thu được từ chi bộ của cấp báo cáo | C10: Đồng
A11: 1 | B11: Kỳ báo cáo | C11: Đồng | D11: 02 | G11: 1075844.3 | H11: =G11 -> 1075844.3
A12: 2 | B12: Từ đầu năm đến cuối kỳ báo cáo | C12: Đồng | D12: 03 | G12: =G11+'Thang 6'!G12 -> 7098465.5 | H12: =G12 -> 7098465.5
A13: III | B13: Đảng phí trích giữ lại ở các cấp | C13: Đồng
A14: 1 | B14: Kỳ báo cáo (05+06+07) | C14: Đồng | D14: 04
A15: 1.1 | B15: Chi bộ, đảng bộ bộ phận | C15: Đồng | D15: 5 | G15: =G11*30% -> 322753.28 | H15: =G15 -> 322753.28
A16: 1.2 | B16: Tổ chức cơ sở Đảng | C16: Đồng | D16: 6
A17: 1.3 | B17: Các cấp trên cơ sở | C17: Đồng | D17: 7 | G17: =G11*70% -> 753090.98 | H17: =G17 -> 753090.98
A18: 2 | B18: Từ đầu năm đến cuối kỳ báo cáo | C18: Đồng | D18: 8
A19: 2.1 | B19: Chi bộ, đảng bộ bộ phận | C19: Đồng | D19: 9 | G19: =G12*30% -> 2129539.7 | H19: =G19 -> 2129539.7
A20: 2.2 | B20: Tổ chức cơ sở Đảng | C20: Đồng | D20: 10
A21: 2.3 | B21: Các cấp trên cơ sở | C21: Đồng | D21: 11 | G21: =G12*70% -> 4968925.9 | H21: =G21 -> 4968925.9
A22: IV | B22: Đảng phí nộp cấp trên của cấp báo cáo | C22: Đồng
A23: 1 | B23: Số phải nộp kỳ báo cáo (02-04) | C23: Đồng | D23: 12 | G23: =G17 -> 753090.98 | H23: =G23 -> 753090.98
A24: 2 | B24: Từ đầu năm đến cuối kỳ báo cáo (03-08) | C24: Đồng | D24: 13 | G24: =G21 -> 4968925.9 | H24: =G24 -> 4968925.9
A25: 3 | B25: Số còn nợ chưa nộp cấp trên đến cuối kỳ báo cáo | C25: Đồng | D25: 14 | G25: 0 | H25: =G25 -> 0
G27: Ngày tháng năm 2017
B28: Người lập | G28: T/M Cấp ủy
B31: Đỗ Thị Phương Khanh

Sheet Thang 11
A1: ĐẢNG CỘNG SẢN VIỆT NAM | E1: Mẫu báo cáo B01/ĐP
A2: Đơn vị báo cáo: Chi bộ 3 | E2: Ban hành kèm theo Công văn số 141-CV/VPTW/nb
A3: Đơn vị nhận báo cáo: Đảng bộ trường CĐKT Lý Tự Trọng | E3: Ngày 17-3-2011 của Văn phòng Trung ương Đảng
A4: BÁO CÁO THU, NỘP ĐẢNG PHÍ
A5: Tháng 11 năm 2017
A7: TT | B7: Chỉ tiêu | C7: Đơn vị tính | D7: Mã số | E7: Đảng bộ xã, phường, thị trấn | F7: Đảng bộ doanh nghiệp | G7: Đảng bộ khác | H7: Cộng | I7: Ghi chú
A8: A | B8: B | C8: C | D8: D | E8: 1 | F8: 2 | G8: 3 | H8: 4=1+2+3 | I8: E
A9: I | B9: Tổng số Đảng viên đến cuối kỳ báo cáo | C9: Người | D9: 01 | G9: 17
A10: II | B10: Đảng phí thu được từ chi bộ của cấp báo cáo | C10: Đồng
A11: 1 | B11: Kỳ báo cáo | C11: Đồng | D11: 02 | G11: 1029743.3 | H11: =G11 -> 1029743.3
A12: 2 | B12: Từ đầu năm đến cuối kỳ báo cáo | C12: Đồng | D12: 03 | G12: =G11+'Thang 6'!G12 -> 7052364.5 | H12: =G12 -> 7052364.5
A13: III | B13: Đảng phí trích giữ lại ở các cấp | C13: Đồng
A14: 1 | B14: Kỳ báo cáo (05+06+07) | C14: Đồng | D14: 04
A15: 1.1 | B15: Chi bộ, đảng bộ bộ phận | C15: Đồng | D15: 5 | G15: =G11*30% -> 308922.98 | H15: =G15 -> 308922.98
A16: 1.2 | B16: Tổ chức cơ sở Đảng | C16: Đồng | D16: 6
A17: 1.3 | B17: Các cấp trên cơ sở | C17: Đồng | D17: 7 | G17: =G11*70% -> 720820.28 | H17: =G17 -> 720820.28
A18: 2 | B18: Từ đầu năm đến cuối kỳ báo cáo | C18: Đồng | D18: 8
A19: 2.1 | B19: Chi bộ, đảng bộ bộ phận | C19: Đồng | D19: 9 | G19: =G12*30% -> 2115709.4 | H19: =G19 -> 2115709.4
A20: 2.2 | B20: Tổ chức cơ sở Đảng | C20: Đồng | D20: 10
A21: 2.3 | B21: Các cấp trên cơ sở | C21: Đồng | D21: 11 | G21: =G12*70% -> 4936655.2 | H21: =G21 -> 4936655.2
A22: IV | B22: Đảng phí nộp cấp trên của cấp báo cáo | C22: Đồng
A23: 1 | B23: Số phải nộp kỳ báo cáo (02-04) | C23: Đồng | D23: 12 | G23: =G17 -> 720820.28 | H23: =G23 -> 720820.28
A24: 2 | B24: Từ đầu năm đến cuối kỳ báo cáo (03-08) | C24: Đồng | D24: 13 | G24: =G21 -> 4936655.2 | H24: =G24 -> 4936655.2
A25: 3 | B25: Số còn nợ chưa nộp cấp trên đến cuối kỳ báo cáo | C25: Đồng | D25: 14 | G25: 0 | H25: =G25 -> 0
G27: Ngày tháng năm 2017
B28: Người lập | G28: T/M Cấp ủy
B31: Đỗ Thị Phương Khanh

Sheet Thang 12
A1: ĐẢNG CỘNG SẢN VIỆT NAM | E1: Mẫu báo cáo B01/ĐP
A2: Đơn vị báo cáo: Chi bộ 3 | E2: Ban hành kèm theo Công văn số 141-CV/VPTW/nb
A3: Đơn vị nhận báo cáo: Đảng bộ trường CĐKT Lý Tự Trọng | E3: Ngày 17-3-2011 của Văn phòng Trung ương Đảng
A4: BÁO CÁO THU, NỘP ĐẢNG PHÍ
A5: Tháng 12 năm 2017
A7: TT | B7: Chỉ tiêu | C7: Đơn vị tính | D7: Mã số | E7: Đảng bộ xã, phường, thị trấn | F7: Đảng bộ doanh nghiệp | G7: Đảng bộ khác | H7: Cộng | I7: Ghi chú
A8: A | B8: B | C8: C | D8: D | E8: 1 | F8: 2 | G8: 3 | H8: 4=1+2+3 | I8: E
A9: I | B9: Tổng số Đảng viên đến cuối kỳ báo cáo | C9: Người | D9: 01 | G9: 17
A10: II | B10: Đảng phí thu được từ chi bộ của cấp báo cáo | C10: Đồng
A11: 1 | B11: Kỳ báo cáo | C11: Đồng | D11: 02 | G11: 1075844.3 | H11: =G11 -> 1075844.3
A12: 2 | B12: Từ đầu năm đến cuối kỳ báo cáo | C12: Đồng | D12: 03 | G12: =G11+'Thang 6'!G12 -> 7098465.5 | H12: =G12 -> 7098465.5
A13: III | B13: Đảng phí trích giữ lại ở các cấp | C13: Đồng
A14: 1 | B14: Kỳ báo cáo (05+06+07) | C14: Đồng | D14: 04
A15: 1.1 | B15: Chi bộ, đảng bộ bộ phận | C15: Đồng | D15: 5 | G15: =G11*30% -> 322753.28 | H15: =G15 -> 322753.28
A16: 1.2 | B16: Tổ chức cơ sở Đảng | C16: Đồng | D16: 6
A17: 1.3 | B17: Các cấp trên cơ sở | C17: Đồng | D17: 7 | G17: =G11*70% -> 753090.98 | H17: =G17 -> 753090.98
A18: 2 | B18: Từ đầu năm đến cuối kỳ báo cáo | C18: Đồng | D18: 8
A19: 2.1 | B19: Chi bộ, đảng bộ bộ phận | C19: Đồng | D19: 9 | G19: =G12*30% -> 2129539.7 | H19: =G19 -> 2129539.7
A20: 2.2 | B20: Tổ chức cơ sở Đảng | C20: Đồng | D20: 10
A21: 2.3 | B21: Các cấp trên cơ sở | C21: Đồng | D21: 11 | G21: =G12*70% -> 4968925.9 | H21: =G21 -> 4968925.9
A22: IV | B22: Đảng phí nộp cấp trên của cấp báo cáo | C22: Đồng
A23: 1 | B23: Số phải nộp kỳ báo cáo (02-04) | C23: Đồng | D23: 12 | G23: =G17 -> 753090.98 | H23: =G23 -> 753090.98
A24: 2 | B24: Từ đầu năm đến cuối kỳ báo cáo (03-08) | C24: Đồng | D24: 13 | G24: =G21 -> 4968925.9 | H24: =G24 -> 4968925.9
A25: 3 | B25: Số còn nợ chưa nộp cấp trên đến cuối kỳ báo cáo | C25: Đồng | D25: 14 | G25: 0 | H25: =G25 -> 0
G27: Ngày tháng năm 2017
B28: Người lập | G28: T/M Cấp ủy
B31: Đỗ Thị Phương Khanh

Sheet Quy 4
A1: ĐẢNG CỘNG SẢN VIỆT NAM | E1: Mẫu báo cáo B01/ĐP
A2: Đơn vị báo cáo: Chi bộ 3 | E2: Ban hành kèm theo Công văn số 141-CV/VPTW/nb
A3: Đơn vị nhận báo cáo: Đảng bộ trường CĐKT Lý Tự Trọng | E3: Ngày 17-3-2011 của Văn phòng Trung ương Đảng
A4: BÁO CÁO THU, NỘP ĐẢNG PHÍ
A5: Quý 4 năm 2017
A7: TT | B7: Chỉ tiêu | C7: Đơn vị tính | D7: Mã số | E7: Đảng bộ xã, phường, thị trấn | F7: Đảng bộ doanh nghiệp | G7: Đảng bộ khác | H7: Cộng | I7: Ghi chú
A8: A | B8: B | C8: C | D8: D | E8: 1 | F8: 2 | G8: 3 | H8: 4=1+2+3 | I8: E
A9: I | B9: Tổng số Đảng viên đến cuối kỳ báo cáo | C9: Người | D9: 01 | G9: 17
A10: II | B10: Đảng phí thu được từ chi bộ của cấp báo cáo | C10: Đồng | M10: 2760787.5
A11: 1 | B11: Kỳ báo cáo | C11: Đồng | D11: 02 | G11: ='Thang 10'!G11+'Thang 11'!G11+'Thang 12'!G11 -> 3181431.8 | H11: =G11 -> 3181431.8 | M11: 2669992.7
A12: 2 | B12: Từ đầu năm đến cuối kỳ báo cáo | C12: Đồng | D12: 03 | G12: =G11+'Quy 1'!G12 -> 5942219.3 | H12: =G12 -> 5942219.3 | M12: =M10+M11 -> 5430780.3
A13: III | B13: Đảng phí trích giữ lại ở các cấp | C13: Đồng
A14: 1 | B14: Kỳ báo cáo (05+06+07) | C14: Đồng | D14: 04
A15: 1.1 | B15: Chi bộ, đảng bộ bộ phận | C15: Đồng | D15: 5 | G15: =G11*30% -> 954429.54 | H15: =G15 -> 954429.54
A16: 1.2 | B16: Tổ chức cơ sở Đảng | C16: Đồng | D16: 6
A17: 1.3 | B17: Các cấp trên cơ sở | C17: Đồng | D17: 7 | G17: =G11*70% -> 2227002.3 | H17: =G17 -> 2227002.3
A18: 2 | B18: Từ đầu năm đến cuối kỳ báo cáo | C18: Đồng | D18: 8
A19: 2.1 | B19: Chi bộ, đảng bộ bộ phận | C19: Đồng | D19: 9 | G19: =G12*30% -> 1782665.8 | H19: =G19 -> 1782665.8
A20: 2.2 | B20: Tổ chức cơ sở Đảng | C20: Đồng | D20: 10
A21: 2.3 | B21: Các cấp trên cơ sở | C21: Đồng | D21: 11 | G21: =G12*70% -> 4159553.5 | H21: =G21 -> 4159553.5
A22: IV | B22: Đảng phí nộp cấp trên của cấp báo cáo | C22: Đồng
A23: 1 | B23: Số phải nộp kỳ báo cáo (02-04) | C23: Đồng | D23: 12 | G23: =G17 -> 2227002.3 | H23: =G23 -> 2227002.3
A24: 2 | B24: Từ đầu năm đến cuối kỳ báo cáo (03-08) | C24: Đồng | D24: 13 | G24: =G21 -> 4159553.5 | H24: =G24 -> 4159553.5
A25: 3 | B25: Số còn nợ chưa nộp cấp trên đến cuối kỳ báo cáo | C25: Đồng | D25: 14 | G25: 0 | H25: =G25 -> 0
G27: Ngày tháng năm 2017
B28: Người lập | G28: T/M Cấp ủy
B33: Đỗ Thị Phương Khanh

Sheet thang 01-2019
A1: ĐẢNG CỘNG SẢN VIỆT NAM | E1: Mẫu báo cáo B01/ĐP
A2: Đơn vị báo cáo: Chi bộ 3 | E2: Ban hành kèm theo Công văn số 141-CV/VPTW/nb
A3: Đơn vị nhận báo cáo: Đảng bộ trường CĐKT Lý Tự Trọng | E3: Ngày 17-3-2011 của Văn phòng Trung ương Đảng
A4: BÁO CÁO THU, NỘP ĐẢNG PHÍ
A5: Tháng 01 năm 2019
A7: TT | B7: Chỉ tiêu | C7: Đơn vị tính | D7: Mã số | E7: Đảng bộ xã, phường, thị trấn | F7: Đảng bộ doanh nghiệp | G7: Đảng bộ khác | H7: Cộng | I7: Ghi chú
A8: A | B8: B | C8: C | D8: D | E8: 1 | F8: 2 | G8: 3 | H8: 4=1+2+3 | I8: E
A9: I | B9: Tổng số Đảng viên đến cuối kỳ báo cáo | C9: Người | D9: 01 | G9: 17
A10: II | B10: Đảng phí thu được từ chi bộ của cấp báo cáo | C10: Đồng
A11: 1 | B11: Kỳ báo cáo | C11: Đồng | D11: 02 | G11: 1204121 | H11: =G11 -> 1204121
A12: 2 | B12: Từ đầu năm đến cuối kỳ báo cáo | C12: Đồng | D12: 03 | H12: =G12 -> 0
A13: III | B13: Đảng phí trích giữ lại ở các cấp | C13: Đồng
A14: 1 | B14: Kỳ báo cáo (05+06+07) | C14: Đồng | D14: 04
A15: 1.1 | B15: Chi bộ, đảng bộ bộ phận | C15: Đồng | D15: 5 | G15: =G11*30% -> 361236.3 | H15: =G15 -> 361236.3
A16: 1.2 | B16: Tổ chức cơ sở Đảng | C16: Đồng | D16: 6
A17: 1.3 | B17: Các cấp trên cơ sở | C17: Đồng | D17: 7 | G17: =G11*70% -> 842884.7 | H17: =G17 -> 842884.7
A18: 2 | B18: Từ đầu năm đến cuối kỳ báo cáo | C18: Đồng | D18: 8
A19: 2.1 | B19: Chi bộ, đảng bộ bộ phận | C19: Đồng | D19: 9 | G19: =G12*30% -> 0 | H19: =G19 -> 0
A20: 2.2 | B20: Tổ chức cơ sở Đảng | C20: Đồng | D20: 10
A21: 2.3 | B21: Các cấp trên cơ sở | C21: Đồng | D21: 11 | G21: =G12*70% -> 0 | H21: =G21 -> 0
A22: IV | B22: Đảng phí nộp cấp trên của cấp báo cáo | C22: Đồng
A23: 1 | B23: Số phải nộp kỳ báo cáo (02-04) | C23: Đồng | D23: 12 | G23: k | H23: =G23 -> k
A24: 2 | B24: Từ đầu năm đến cuối kỳ báo cáo (03-08) | C24: Đồng | D24: 13 | G24: =G21 -> 0 | H24: =G24 -> 0
A25: 3 | B25: Số còn nợ chưa nộp cấp trên đến cuối kỳ báo cáo | C25: Đồng | D25: 14 | G25: 0 | H25: =G25 -> 0
G27: Ngày tháng 01 năm 2019
B28: Người lập | G28: T/M Cấp ủy
B31: Đỗ Thị Phương Khanh | G31: Châu Văn Bảo

Sheet thang 02-2019
A1: ĐẢNG CỘNG SẢN VIỆT NAM | E1: Mẫu báo cáo B01/ĐP
A2: Đơn vị báo cáo: Chi bộ 3 | E2: Ban hành kèm theo Công văn số 141-CV/VPTW/nb
A3: Đơn vị nhận báo cáo: Đảng bộ trường CĐKT Lý Tự Trọng | E3: Ngày 17-3-2011 của Văn phòng Trung ương Đảng
A4: BÁO CÁO THU, NỘP ĐẢNG PHÍ
A5: Tháng 02 năm 2019
A7: TT | B7: Chỉ tiêu | C7: Đơn vị tính | D7: Mã số | E7: Đảng bộ xã, phường, thị trấn | F7: Đảng bộ doanh nghiệp | G7: Đảng bộ khác | H7: Cộng | I7: Ghi chú
A8: A | B8: B | C8: C | D8: D | E8: 1 | F8: 2 | G8: 3 | H8: 4=1+2+3 | I8: E
A9: I | B9: Tổng số Đảng viên đến cuối kỳ báo cáo | C9: Người | D9: 01 | G9: 17
A10: II | B10: Đảng phí thu được từ chi bộ của cấp báo cáo | C10: Đồng
A11: 1 | B11: Kỳ báo cáo | C11: Đồng | D11: 02 | G11: 1204121 | H11: =G11 -> 1204121
A12: 2 | B12: Từ đầu năm đến cuối kỳ báo cáo | C12: Đồng | D12: 03 | G12: =G11+'thang 01-2019'!G12 -> 1204121 | H12: =G12 -> 1204121
A13: III | B13: Đảng phí trích giữ lại ở các cấp | C13: Đồng
A14: 1 | B14: Kỳ báo cáo (05+06+07) | C14: Đồng | D14: 04
A15: 1.1 | B15: Chi bộ, đảng bộ bộ phận | C15: Đồng | D15: 5 | G15: =G11*30% -> 361236.3 | H15: =G15 -> 361236.3
A16: 1.2 | B16: Tổ chức cơ sở Đảng | C16: Đồng | D16: 6
A17: 1.3 | B17: Các cấp trên cơ sở | C17: Đồng | D17: 7 | G17: =G11*70% -> 842884.7 | H17: =G17 -> 842884.7
A18: 2 | B18: Từ đầu năm đến cuối kỳ báo cáo | C18: Đồng | D18: 8
A19: 2.1 | B19: Chi bộ, đảng bộ bộ phận | C19: Đồng | D19: 9 | G19: =G12*30% -> 361236.3 | H19: =G19 -> 361236.3
A20: 2.2 | B20: Tổ chức cơ sở Đảng | C20: Đồng | D20: 10
A21: 2.3 | B21: Các cấp trên cơ sở | C21: Đồng | D21: 11 | G21: =G12*70% -> 842884.7 | H21: =G21 -> 842884.7
A22: IV | B22: Đảng phí nộp cấp trên của cấp báo cáo | C22: Đồng
A23: 1 | B23: Số phải nộp kỳ báo cáo (02-04) | C23: Đồng | D23: 12 | G23: =G17 -> 842884.7 | H23: =G23 -> 842884.7
A24: 2 | B24: Từ đầu năm đến cuối kỳ báo cáo (03-08) | C24: Đồng | D24: 13 | G24: =G21 -> 842884.7 | H24: =G24 -> 842884.7
A25: 3 | B25: Số còn nợ chưa nộp cấp trên đến cuối kỳ báo cáo | C25: Đồng | D25: 14 | G25: 0 | H25: =G25 -> 0
G27: Ngày tháng 02 năm 2019
B28: Người lập | G28: T/M Cấp ủy
B31: Đỗ Thị Phương Khanh | G31: Châu Văn Bảo

Sheet thang 03-2019
A1: ĐẢNG CỘNG SẢN VIỆT NAM | E1: Mẫu báo cáo B01/ĐP
A2: Đơn vị báo cáo: Chi bộ 3 | E2: Ban hành kèm theo Công văn số 141-CV/VPTW/nb
A3: Đơn vị nhận báo cáo: Đảng bộ trường CĐKT Lý Tự Trọng | E3: Ngày 17-3-2011 của Văn phòng Trung ương Đảng
A4: BÁO CÁO THU, NỘP ĐẢNG PHÍ
A5: Tháng 03 năm 2019
A7: TT | B7: Chỉ tiêu | C7: Đơn vị tính | D7: Mã số | E7: Đảng bộ xã, phường, thị trấn | F7: Đảng bộ doanh nghiệp | G7: Đảng bộ khác | H7: Cộng | I7: Ghi chú
A8: A | B8: B | C8: C | D8: D | E8: 1 | F8: 2 | G8: 3 | H8: 4=1+2+3 | I8: E
A9: I | B9: Tổng số Đảng viên đến cuối kỳ báo cáo | C9: Người | D9: 01 | G9: 17
A10: II | B10: Đảng phí thu được từ chi bộ của cấp báo cáo | C10: Đồng
A11: 1 | B11: Kỳ báo cáo | C11: Đồng | D11: 02 | G11: 1204121 | H11: =G11 -> 1204121
A12: 2 | B12: Từ đầu năm đến cuối kỳ báo cáo | C12: Đồng | D12: 03 | G12: =G11+'thang 02-2019'!G12 -> 2408242 | H12: =G12 -> 2408242
A13: III | B13: Đảng phí trích giữ lại ở các cấp | C13: Đồng
A14: 1 | B14: Kỳ báo cáo (05+06+07) | C14: Đồng | D14: 04
A15: 1.1 | B15: Chi bộ, đảng bộ bộ phận | C15: Đồng | D15: 5 | G15: =G11*30% -> 361236.3 | H15: =G15 -> 361236.3
A16: 1.2 | B16: Tổ chức cơ sở Đảng | C16: Đồng | D16: 6
A17: 1.3 | B17: Các cấp trên cơ sở | C17: Đồng | D17: 7 | G17: =G11*70% -> 842884.7 | H17: =G17 -> 842884.7
A18: 2 | B18: Từ đầu năm đến cuối kỳ báo cáo | C18: Đồng | D18: 8
A19: 2.1 | B19: Chi bộ, đảng bộ bộ phận | C19: Đồng | D19: 9 | G19: =G12*30% -> 722472.6 | H19: =G19 -> 722472.6
A20: 2.2 | B20: Tổ chức cơ sở Đảng | C20: Đồng | D20: 10
A21: 2.3 | B21: Các cấp trên cơ sở | C21: Đồng | D21: 11 | G21: =G12*70% -> 1685769.4 | H21: =G21 -> 1685769.4
A22: IV | B22: Đảng phí nộp cấp trên của cấp báo cáo | C22: Đồng
A23: 1 | B23: Số phải nộp kỳ báo cáo (02-04) | C23: Đồng | D23: 12 | G23: =G17 -> 842884.7 | H23: =G23 -> 842884.7
A24: 2 | B24: Từ đầu năm đến cuối kỳ báo cáo (03-08) | C24: Đồng | D24: 13 | G24: =G21 -> 1685769.4 | H24: =G24 -> 1685769.4
A25: 3 | B25: Số còn nợ chưa nộp cấp trên đến cuối kỳ báo cáo | C25: Đồng | D25: 14 | G25: 0 | H25: =G25 -> 0
G27: Ngày tháng 03 năm 2019
B28: Người lập | G28: T/M Cấp ủy
B31: Đỗ Thị Phương Khanh | G31: Châu Văn Bảo

Sheet qui 1-2019
A1: ĐẢNG CỘNG SẢN VIỆT NAM | E1: Mẫu báo cáo B01/ĐP
A2: Đơn vị báo cáo: Chi bộ 3 | E2: Ban hành kèm theo Công văn số 141-CV/VPTW/nb
A3: Đơn vị nhận báo cáo: Đảng bộ trường CĐ Lý Tự Trọng | E3: Ngày 17-3-2011 của Văn phòng Trung ương Đảng
A4: BÁO CÁO THU, NỘP ĐẢNG PHÍ
A5: Quý 1 năm 2019
A7: TT | B7: Chỉ tiêu | C7: Đơn vị tính | D7: Mã số | E7: Đảng bộ xã, phường, thị trấn | F7: Đảng bộ doanh nghiệp | G7: Đảng bộ khác | H7: Cộng | I7: Ghi chú
A8: A | B8: B | C8: C | D8: D | E8: 1 | F8: 2 | G8: 3 | H8: 4=1+2+3 | I8: E
A9: I | B9: Tổng số Đảng viên đến cuối kỳ báo cáo | C9: Người | D9: 01 | G9: 15
A10: II | B10: Đảng phí thu được từ chi bộ của cấp báo cáo | C10: Đồng | M10: 2760787.5
A11: 1 | B11: Kỳ báo cáo | C11: Đồng | D11: 02 | G11: ='thang 01-2019'!G11+'thang 02-2019'!G11+'thang 03-2019'!G11 -> 3612363 | H11: =G11 -> 3612363 | M11: 2669992.7
A12: 2 | B12: Từ đầu năm đến cuối kỳ báo cáo | C12: Đồng | D12: 03 | H12: =G12 -> 0 | M12: =M10+M11 -> 5430780.3
A13: III | B13: Đảng phí trích giữ lại ở các cấp | C13: Đồng
A14: 1 | B14: Kỳ báo cáo (05+06+07) | C14: Đồng | D14: 04
A15: 1.1 | B15: Chi bộ, đảng bộ bộ phận | C15: Đồng | D15: 5 | G15: =G11*30% -> 1083708.9 | H15: =G15 -> 1083708.9
A16: 1.2 | B16: Tổ chức cơ sở Đảng | C16: Đồng | D16: 6
A17: 1.3 | B17: Các cấp trên cơ sở | C17: Đồng | D17: 7 | G17: =G11*70% -> 2528654.1 | H17: =G17 -> 2528654.1
A18: 2 | B18: Từ đầu năm đến cuối kỳ báo cáo | C18: Đồng | D18: 8
A19: 2.1 | B19: Chi bộ, đảng bộ bộ phận | C19: Đồng | D19: 9 | G19: =G12*30% -> 0 | H19: =G19 -> 0
A20: 2.2 | B20: Tổ chức cơ sở Đảng | C20: Đồng | D20: 10
A21: 2.3 | B21: Các cấp trên cơ sở | C21: Đồng | D21: 11 | G21: =G12*70% -> 0 | H21: =G21 -> 0
A22: IV | B22: Đảng phí nộp cấp trên của cấp báo cáo | C22: Đồng
A23: 1 | B23: Số phải nộp kỳ báo cáo (02-04) | C23: Đồng | D23: 12 | G23: =G17 -> 2528654.1 | H23: =G23 -> 2528654.1
A24: 2 | B24: Từ đầu năm đến cuối kỳ báo cáo (03-08) | C24: Đồng | D24: 13 | G24: =G21 -> 0 | H24: =G24 -> 0
A25: 3 | B25: Số còn nợ chưa nộp cấp trên đến cuối kỳ báo cáo | C25: Đồng | D25: 14 | G25: 0 | H25: =G25 -> 0
G27: Ngày 15 tháng 03 năm 2019
B28: Người lập | G28: T/M Cấp ủy
B32: Đỗ Thị Phương Khanh | G32: Châu Văn Bảo

Sheet thang 04-2019
A1: ĐẢNG CỘNG SẢN VIỆT NAM | E1: Mẫu báo cáo B01/ĐP
A2: Đơn vị báo cáo: Chi bộ 3 | E2: Ban hành kèm theo Công văn số 141-CV/VPTW/nb
A3: Đơn vị nhận báo cáo: Đảng bộ trường CĐKT Lý Tự Trọng | E3: Ngày 17-3-2011 của Văn phòng Trung ương Đảng
A4: BÁO CÁO THU, NỘP ĐẢNG PHÍ
A5: Tháng 02 năm 2019
A7: TT | B7: Chỉ tiêu | C7: Đơn vị tính | D7: Mã số | E7: Đảng bộ xã, phường, thị trấn | F7: Đảng bộ doanh nghiệp | G7: Đảng bộ khác | H7: Cộng | I7: Ghi chú
A8: A | B8: B | C8: C | D8: D | E8: 1 | F8: 2 | G8: 3 | H8: 4=1+2+3 | I8: E
A9: I | B9: Tổng số Đảng viên đến cuối kỳ báo cáo | C9: Người | D9: 01 | G9: 17
A10: II | B10: Đảng phí thu được từ chi bộ của cấp báo cáo | C10: Đồng
A11: 1 | B11: Kỳ báo cáo | C11: Đồng | D11: 02 | G11: 1113152 | H11: =G11 -> 1113152
A12: 2 | B12: Từ đầu năm đến cuối kỳ báo cáo | C12: Đồng | D12: 03 | G12: =G11+'thang 03-2019'!G12 -> 3521394 | H12: =G12 -> 3521394
A13: III | B13: Đảng phí trích giữ lại ở các cấp | C13: Đồng
A14: 1 | B14: Kỳ báo cáo (05+06+07) | C14: Đồng | D14: 04
A15: 1.1 | B15: Chi bộ, đảng bộ bộ phận | C15: Đồng | D15: 5 | G15: =G11*30% -> 333945.6 | H15: =G15 -> 333945.6
A16: 1.2 | B16: Tổ chức cơ sở Đảng | C16: Đồng | D16: 6
A17: 1.3 | B17: Các cấp trên cơ sở | C17: Đồng | D17: 7 | G17: =G11*70% -> 779206.4 | H17: =G17 -> 779206.4
A18: 2 | B18: Từ đầu năm đến cuối kỳ báo cáo | C18: Đồng | D18: 8
A19: 2.1 | B19: Chi bộ, đảng bộ bộ phận | C19: Đồng | D19: 9 | G19: =G12*30% -> 1056418.2 | H19: =G19 -> 1056418.2
A20: 2.2 | B20: Tổ chức cơ sở Đảng | C20: Đồng | D20: 10
A21: 2.3 | B21: Các cấp trên cơ sở | C21: Đồng | D21: 11 | G21: =G12*70% -> 2464975.8 | H21: =G21 -> 2464975.8
A22: IV | B22: Đảng phí nộp cấp trên của cấp báo cáo | C22: Đồng
A23: 1 | B23: Số phải nộp kỳ báo cáo (02-04) | C23: Đồng | D23: 12 | G23: =G17 -> 779206.4 | H23: =G23 -> 779206.4
A24: 2 | B24: Từ đầu năm đến cuối kỳ báo cáo (03-08) | C24: Đồng | D24: 13 | G24: =G21 -> 2464975.8 | H24: =G24 -> 2464975.8
A25: 3 | B25: Số còn nợ chưa nộp cấp trên đến cuối kỳ báo cáo | C25: Đồng | D25: 14 | G25: 0 | H25: =G25 -> 0
G27: Ngày tháng năm 2017
B28: Người lập | G28: T/M Cấp ủy
B31: Đỗ Thị Phương Khanh

Sheet qui 2-2019
A1: ĐẢNG CỘNG SẢN VIỆT NAM | E1: Mẫu báo cáo B01/ĐP
A2: Đơn vị báo cáo: Chi bộ 3 | E2: Ban hành kèm theo Công văn số 141-CV/VPTW/nb
A3: Đơn vị nhận báo cáo: Đảng bộ trường CĐ Lý Tự Trọng | E3: Ngày 17-3-2011 của Văn phòng Trung ương Đảng
A4: BÁO CÁO THU, NỘP ĐẢNG PHÍ
A5: Quý 2 năm 2019
A7: TT | B7: Chỉ tiêu | C7: Đơn vị tính | D7: Mã số | E7: Đảng bộ xã, phường, thị trấn | F7: Đảng bộ doanh nghiệp | G7: Đảng bộ khác | H7: Cộng | I7: Ghi chú
A8: A | B8: B | C8: C | D8: D | E8: 1 | F8: 2 | G8: 3 | H8: 4=1+2+3 | I8: E
A9: I | B9: Tổng số Đảng viên đến cuối kỳ báo cáo | C9: Người | D9: 01 | G9: 15
A10: II | B10: Đảng phí thu được từ chi bộ của cấp báo cáo | C10: Đồng | M10: 2760787.5
A11: 1 | B11: Kỳ báo cáo | C11: Đồng | D11: 02 | G11: ='thang 01-2019'!G11+'thang 02-2019'!G11+'thang 03-2019'!G11 -> 3612363 | H11: =G11 -> 3612363 | M11: 2669992.7
A12: 2 | B12: Từ đầu năm đến cuối kỳ báo cáo | C12: Đồng | D12: 03 | G12: =G11+'qui 1-2019'!G12 -> 3612363 | H12: =G12 -> 3612363 | M12: =M10+M11 -> 5430780.3
A13: III | B13: Đảng phí trích giữ lại ở các cấp | C13: Đồng
A14: 1 | B14: Kỳ báo cáo (05+06+07) | C14: Đồng | D14: 04
A15: 1.1 | B15: Chi bộ, đảng bộ bộ phận | C15: Đồng | D15: 5 | G15: =G11*30% -> 1083708.9 | H15: =G15 -> 1083708.9
A16: 1.2 | B16: Tổ chức cơ sở Đảng | C16: Đồng | D16: 6
A17: 1.3 | B17: Các cấp trên cơ sở | C17: Đồng | D17: 7 | G17: =G11*70% -> 2528654.1 | H17: =G17 -> 2528654.1
A18: 2 | B18: Từ đầu năm đến cuối kỳ báo cáo | C18: Đồng | D18: 8
A19: 2.1 | B19: Chi bộ, đảng bộ bộ phận | C19: Đồng | D19: 9 | G19: =G12*30% -> 1083708.9 | H19: =G19 -> 1083708.9
A20: 2.2 | B20: Tổ chức cơ sở Đảng | C20: Đồng | D20: 10
A21: 2.3 | B21: Các cấp trên cơ sở | C21: Đồng | D21: 11 | G21: =G12*70% -> 2528654.1 | H21: =G21 -> 2528654.1
A22: IV | B22: Đảng phí nộp cấp trên của cấp báo cáo | C22: Đồng
A23: 1 | B23: Số phải nộp kỳ báo cáo (02-04) | C23: Đồng | D23: 12 | G23: =G17 -> 2528654.1 | H23: =G23 -> 2528654.1
A24: 2 | B24: Từ đầu năm đến cuối kỳ báo cáo (03-08) | C24: Đồng | D24: 13 | G24: =G21 -> 2528654.1 | H24: =G24 -> 2528654.1
A25: 3 | B25: Số còn nợ chưa nộp cấp trên đến cuối kỳ báo cáo | C25: Đồng | D25: 14 | G25: 0 | H25: =G25 -> 0
G27: Ngày tháng năm
B28: Người lập | G28: T/M Cấp ủy
